Workbook

Sheet Opened
A1: Firm Name | B1: Group | C1: Joint Reporting | D1: Reporting period | E1: Banking and credit cards | F1: Decumulation & pensions | G1: Home finance | H1: Insurance & pure protection | I1: Investments | J1: Grand Total
A2: 2GETHER INSURANCE LTD | B2: NO GROUP | C2: no | D2: 2025-10-01 to 2026-03-31 | H2: 749 | J2: 749
A3: Accord Mortgages Limited | B3: YORKSHIRE BUILDING SOCIETY | C3: no | D3: 2026-01-01 to 2026-06-30 | G3: 1079 | J3: 1079
A4: Accredited Insurance (Europe) Ltd | B4: ACCREDITED GROUP | C4: no | D4: 2026-01-01 to 2026-06-30 | H4: 4767 | J4: 4767
A5: ACORN INSURANCE AND FINANCIAL SERVICES LIMITED | B5: ACORN GROUP | C5: no | D5: 2026-01-01 to 2026-06-30 | H5: 1184 | J5: 1184
A6: Admiral Financial Services Limited | B6: ADMIRAL GROUP PLC | C6: no | D6: 2026-01-01 to 2026-06-30 | G6: 17 | J6: 17
A7: Adrian Flux Insurance Services Group | B7: NO GROUP | C7: no | D7: 2025-10-01 to 2026-03-31 | H7: 2428 | J7: 2428
A8: Advisory Insurance Brokers Limited | B8: ARDONAGH GROUP LIMITED | C8: no | D8: 2026-01-01 to 2026-06-30 | H8: 517 | J8: 517
A9: Ageas Insurance Limited | B9: AGEAS SA-NV | C9: no | D9: 2026-01-01 to 2026-06-30 | H9: 5691 | J9: 5691
A10: Ageas Retail Limited | B10: AGEAS SA-NV | C10: no | D10: 2026-01-01 to 2026-06-30 | H10: 3062 | J10: 3062
A11: Aioi Nissay Dowa Insurance UK Limited | B11: AIOI NISSAY DOWA EUROPE LIMITED | C11: yes | D11: 2026-01-01 to 2026-06-30 | H11: 1240 | J11: 1240
A12: AJ Bell Management Limited | B12: AJ BELL GROUP | C12: no | D12: 2025-10-01 to 2026-03-31 | F12: 1199 | J12: 1199
A13: AJ Bell Securities Limited | B13: AJ BELL GROUP | C13: no | D13: 2025-10-01 to 2026-03-31 | E13: 17 | F13: 308 | I13: 1212 | J13: 1537
A14: Aldermore Bank Plc | B14: FIRSTRAND LIMITED | C14: no | D14: 2026-01-01 to 2026-06-30 | E14: 901 | G14: 841 | J14: 1742
A15: Allianz Insurance Plc | B15: ALLIANZ GROUP | C15: no | D15: 2026-01-01 to 2026-06-30 | H15: 3152 | J15: 3152
A16: ALLICA BANK LIMITED | B16: NO GROUP | C16: no | D16: 2026-01-01 to 2026-06-30 | E16: 611 | J16: 611
A17: AMERICAN EXPRESS SERVICES EUROPE LIMITED | B17: AMERICAN EXPRESS | C17: no | D17: 2026-01-01 to 2026-06-30 | E17: 19841 | H17: 174 | J17: 20015
A18: AMERICAN INTERNATIONAL GROUP UK LIMITED | B18: AMERICAN INTERNATIONAL GROUP, INC. (AIG) | C18: no | D18: 2026-01-01 to 2026-06-30 | H18: 906 | J18: 906
A19: AmTrust Specialty Limited | B19: AMTRUST INTERNATIONAL | C19: no | D19: 2026-01-01 to 2026-06-30 | H19: 2016 | J19: 2016
A20: ANIMAL FRIENDS INSURANCE SERVICES LIMITED | B20: PINNACLE PET GROUP | C20: no | D20: 2026-01-01 to 2026-06-30 | H20: 2357 | J20: 2357
A21: Antares Insurance Company Limited | B21: QIC CAPITAL LLC | C21: no | D21: 2026-01-01 to 2026-06-30 | H21: 1049 | J21: 1049
A22: ARAG Legal Expenses Insurance Company Limited | B22: ARAG PLC | C22: no | D22: 2026-01-01 to 2026-06-30 | H22: 4718 | J22: 4718
A23: Arch Insurance (UK) Limited | B23: ARCH CAPITAL GROUP | C23: no | D23: 2026-01-01 to 2026-06-30 | H23: 509 | J23: 509
A24: Arthur J. Gallagher Insurance Brokers Limited | B24: GALLAGHER GROUP | C24: yes | D24: 2026-01-01 to 2026-06-30 | H24: 949 | J24: 949
A25: Assurant General Insurance Limited | B25: ASSURANT INC | C25: no | D25: 2026-01-01 to 2026-06-30 | H25: 6620 | J25: 6620
A26: Astrenska Insurance Limited | B26: COLLINSON GROUP | C26: no | D26: 2025-11-01 to 2026-04-30 | H26: 3825 | J26: 3825
A27: Asurion Europe Limited | B27: ASURION | C27: no | D27: 2026-01-01 to 2026-06-30 | H27: 1164 | J27: 1164
A28: Atlanta Insurance Intermediaries Limited | B28: MARKERSTUDY GROUP | C28: no | D28: 2026-01-01 to 2026-06-30 | H28: 7847 | J28: 7847
A29: Automobile Association Insurance Services Limited | B29: AUTOMOBILE ASSOCIATION (AA) | C29: no | D29: 2025-08-01 to 2026-01-31 | H29: 7116 | J29: 7116
A30: Avantia Insurance Limited | B30: AVANTIA GROUP | C30: no | D30: 2026-01-01 to 2026-06-30 | H30: 1061 | J30: 1061
A31: Aviva Administration Limited | B31: AVIVA PLC | C31: no | D31: 2026-01-01 to 2026-06-30 | F31: 20143 | G31: 592 | H31: 6834 | I31: 4088 | J31: 31657
A32: Aviva Health UK Limited | B32: AVIVA PLC | C32: no | D32: 2026-01-01 to 2026-06-30 | H32: 1082 | J32: 1082
A33: Aviva Insurance Limited | B33: AVIVA PLC | C33: no | D33: 2026-01-01 to 2026-06-30 | H33: 54710 | J33: 54710
A34: AWP Assistance UK Ltd | B34: ALLIANZ GROUP | C34: yes | D34: 2026-01-01 to 2026-06-30 | H34: 3266 | J34: 3266
A35: AWP P&C S.A. | B35: ALLIANZ GROUP | C35: yes | D35: 2026-01-01 to 2026-06-30 | H35: 2555 | J35: 2555
A36: AXA Insurance Designated Activity Company | B36: AXA GROUP | C36: no | D36: 2026-01-01 to 2026-06-30 | H36: 1728 | J36: 1728
A37: AXA Insurance UK Plc | B37: AXA GROUP | C37: no | D37: 2026-01-01 to 2026-06-30 | H37: 18717 | J37: 18717
A38: AXA PPP Healthcare Limited | B38: AXA GROUP | C38: no | D38: 2026-01-01 to 2026-06-30 | H38: 21487 | J38: 21487
A39: Bank of Ireland (UK) Plc | B39: BANK OF IRELAND GROUP | C39: yes | D39: 2026-01-01 to 2026-06-30 | E39: 1739 | G39: 776 | H39: 38 | J39: 2553
A40: Bank of Scotland plc | B40: LLOYDS BANKING GROUP PLC | C40: no | D40: 2026-01-01 to 2026-06-30 | E40: 78145 | F40: 2 | G40: 12934 | H40: 217 | I40: 28 | J40: 91326
...

Sheet Closed
A1: Firm Name | B1: Group | C1: Joint Reporting | D1: Reporting period | E1: Banking and credit cards | F1: Decumulation & pensions | G1: Home finance | H1: Insurance & pure protection | I1: Investments | J1: Grand Total
A2: 2GETHER INSURANCE LTD | B2: NO GROUP | C2: no | D2: 2025-10-01 to 2026-03-31 | H2: 749 | J2: 749
A3: Accord Mortgages Limited | B3: YORKSHIRE BUILDING SOCIETY | C3: no | D3: 2026-01-01 to 2026-06-30 | G3: 1081 | J3: 1081
A4: Accredited Insurance (Europe) Ltd | B4: ACCREDITED GROUP | C4: no | D4: 2026-01-01 to 2026-06-30 | H4: 4212 | J4: 4212
A5: ACORN INSURANCE AND FINANCIAL SERVICES LIMITED | B5: ACORN GROUP | C5: no | D5: 2026-01-01 to 2026-06-30 | H5: 1144 | J5: 1144
A6: Admiral Financial Services Limited | B6: ADMIRAL GROUP PLC | C6: no | D6: 2026-01-01 to 2026-06-30 | G6: 18 | J6: 18
A7: Adrian Flux Insurance Services Group | B7: NO GROUP | C7: no | D7: 2025-10-01 to 2026-03-31 | H7: 2421 | J7: 2421
A8: Advisory Insurance Brokers Limited | B8: ARDONAGH GROUP LIMITED | C8: no | D8: 2026-01-01 to 2026-06-30 | H8: 510 | J8: 510
A9: Ageas Insurance Limited | B9: AGEAS SA-NV | C9: no | D9: 2026-01-01 to 2026-06-30 | H9: 5354 | J9: 5354
A10: Ageas Retail Limited | B10: AGEAS SA-NV | C10: no | D10: 2026-01-01 to 2026-06-30 | H10: 2733 | J10: 2733
A11: Aioi Nissay Dowa Insurance UK Limited | B11: AIOI NISSAY DOWA EUROPE LIMITED | C11: yes | D11: 2026-01-01 to 2026-06-30 | H11: 1141 | J11: 1141
A12: AJ Bell Management Limited | B12: AJ BELL GROUP | C12: no | D12: 2025-10-01 to 2026-03-31 | F12: 1180 | J12: 1180
A13: AJ Bell Securities Limited | B13: AJ BELL GROUP | C13: no | D13: 2025-10-01 to 2026-03-31 | E13: 18 | F13: 300 | I13: 1178 | J13: 1496
A14: Aldermore Bank Plc | B14: FIRSTRAND LIMITED | C14: no | D14: 2026-01-01 to 2026-06-30 | E14: 730 | G14: 760 | J14: 1490
A15: Allianz Insurance Plc | B15: ALLIANZ GROUP | C15: no | D15: 2026-01-01 to 2026-06-30 | H15: 3091 | J15: 3091
A16: ALLICA BANK LIMITED | B16: NO GROUP | C16: no | D16: 2026-01-01 to 2026-06-30 | E16: 593 | J16: 593
A17: AMERICAN EXPRESS SERVICES EUROPE LIMITED | B17: AMERICAN EXPRESS | C17: no | D17: 2026-01-01 to 2026-06-30 | E17: 19810 | H17: 209 | J17: 20019
A18: AMERICAN INTERNATIONAL GROUP UK LIMITED | B18: AMERICAN INTERNATIONAL GROUP, INC. (AIG) | C18: no | D18: 2026-01-01 to 2026-06-30 | H18: 920 | J18: 920
A19: AmTrust Specialty Limited | B19: AMTRUST INTERNATIONAL | C19: no | D19: 2026-01-01 to 2026-06-30 | H19: 1987 | J19: 1987
A20: ANIMAL FRIENDS INSURANCE SERVICES LIMITED | B20: PINNACLE PET GROUP | C20: no | D20: 2026-01-01 to 2026-06-30 | H20: 2184 | J20: 2184
A21: Antares Insurance Company Limited | B21: QIC CAPITAL LLC | C21: no | D21: 2026-01-01 to 2026-06-30 | H21: 1022 | J21: 1022
A22: ARAG Legal Expenses Insurance Company Limited | B22: ARAG PLC | C22: no | D22: 2026-01-01 to 2026-06-30 | H22: 4676 | J22: 4676
A23: Arch Insurance (UK) Limited | B23: ARCH CAPITAL GROUP | C23: no | D23: 2026-01-01 to 2026-06-30 | H23: 438 | J23: 438
A24: Arthur J. Gallagher Insurance Brokers Limited | B24: GALLAGHER GROUP | C24: yes | D24: 2026-01-01 to 2026-06-30 | H24: 914 | J24: 914
A25: Assurant General Insurance Limited | B25: ASSURANT INC | C25: no | D25: 2026-01-01 to 2026-06-30 | H25: 6585 | J25: 6585
A26: Astrenska Insurance Limited | B26: COLLINSON GROUP | C26: no | D26: 2025-11-01 to 2026-04-30 | H26: 3551 | J26: 3551
A27: Asurion Europe Limited | B27: ASURION | C27: no | D27: 2026-01-01 to 2026-06-30 | H27: 1235 | J27: 1235
A28: Atlanta Insurance Intermediaries Limited | B28: MARKERSTUDY GROUP | C28: no | D28: 2026-01-01 to 2026-06-30 | H28: 7790 | J28: 7790
A29: Automobile Association Insurance Services Limited | B29: AUTOMOBILE ASSOCIATION (AA) | C29: no | D29: 2025-08-01 to 2026-01-31 | H29: 7162 | J29: 7162
A30: Avantia Insurance Limited | B30: AVANTIA GROUP | C30: no | D30: 2026-01-01 to 2026-06-30 | H30: 1035 | J30: 1035
A31: Aviva Administration Limited | B31: AVIVA PLC | C31: no | D31: 2026-01-01 to 2026-06-30 | F31: 20070 | G31: 589 | H31: 6400 | I31: 4005 | J31: 31064
A32: Aviva Health UK Limited | B32: AVIVA PLC | C32: no | D32: 2026-01-01 to 2026-06-30 | H32: 1082 | J32: 1082
A33: Aviva Insurance Limited | B33: AVIVA PLC | C33: no | D33: 2026-01-01 to 2026-06-30 | H33: 53482 | J33: 53482
A34: AWP Assistance UK Ltd | B34: ALLIANZ GROUP | C34: yes | D34: 2026-01-01 to 2026-06-30 | H34: 3016 | J34: 3016
A35: AWP P&C S.A. | B35: ALLIANZ GROUP | C35: yes | D35: 2026-01-01 to 2026-06-30 | H35: 2325 | J35: 2325
A36: AXA Insurance Designated Activity Company | B36: AXA GROUP | C36: no | D36: 2026-01-01 to 2026-06-30 | H36: 1753 | J36: 1753
A37: AXA Insurance UK Plc | B37: AXA GROUP | C37: no | D37: 2026-01-01 to 2026-06-30 | H37: 18093 | J37: 18093
A38: AXA PPP Healthcare Limited | B38: AXA GROUP | C38: no | D38: 2026-01-01 to 2026-06-30 | H38: 20483 | J38: 20483
A39: Bank of Ireland (UK) Plc | B39: BANK OF IRELAND GROUP | C39: yes | D39: 2026-01-01 to 2026-06-30 | E39: 1745 | G39: 754 | H39: 43 | J39: 2542
A40: Bank of Scotland plc | B40: LLOYDS BANKING GROUP PLC | C40: no | D40: 2026-01-01 to 2026-06-30 | E40: 76346 | F40: 4 | G40: 13076 | H40: 216 | I40: 28 | J40: 89670
...

Sheet Consumer Credit
A1: Firm Name | B1: Group | C1: Joint Reporting | D1: Reporting frequency | E1: Reporting period | F1: Semester | G1: Complaints Received | H1: Complaints Closed | I1: Complaints upheld by firm
A2: ACI-UK LIMITED | B2: NO GROUP | C2: no | D2: Half Yearly | E2: 2025-10-01 to 2026-03-31 | F2: 2026 H1 | G2: 3037 | H2: 2881 | I2: 0.44151336
A3: ACORN INSURANCE AND FINANCIAL SERVICES LIMITED | B3: ACORN GROUP | C3: no | D3: Half Yearly | E3: 2026-01-01 to 2026-06-30 | F3: 2026 H1 | G3: 10 | H3: 12 | I3: 0.5
A4: Admiral Financial Services Limited | B4: ADMIRAL GROUP PLC | C4: no | D4: Half Yearly | E4: 2026-01-01 to 2026-06-30 | F4: 2026 H1 | G4: 1827 | H4: 1623 | I4: 0.25939618
A5: Adrian Flux Insurance Services Group | B5: NO GROUP | C5: no | D5: Half Yearly | E5: 2025-10-01 to 2026-03-31 | F5: 2026 H1 | G5: 20 | H5: 20 | I5: 0.2
A6: ADVANTAGE FINANCE LIMITED | B6: S&U PLC | C6: no | D6: Half Yearly | E6: 2025-08-01 to 2026-01-31 | F6: 2026 H1 | G6: 40513 | H6: 964 | I6: 0.33713693
A7: Advisory Insurance Brokers Limited | B7: ARDONAGH GROUP LIMITED | C7: no | D7: Half Yearly | E7: 2026-01-01 to 2026-06-30 | F7: 2026 H1 | G7: 9 | H7: 6 | I7: 0.33333333
A8: Ageas Retail Limited | B8: AGEAS SA-NV | C8: no | D8: Half Yearly | E8: 2026-01-01 to 2026-06-30 | F8: 2026 H1 | G8: 177 | H8: 159 | I8: 0.5408805
A9: Aioi Nissay Dowa Insurance UK Limited | B9: AIOI NISSAY DOWA EUROPE LIMITED | C9: no | D9: Half Yearly | E9: 2026-01-01 to 2026-06-30 | F9: 2026 H1 | G9: 42 | H9: 38 | I9: 0.36842105
A10: Ald Automotive Limited | B10: SOCIETY GENERALE GROUP | C10: no | D10: Half Yearly | E10: 2026-01-01 to 2026-06-30 | F10: 2026 H1 | G10: 5589 | H10: 12220 | I10: 0.099427169
A11: Aldermore Bank Plc | B11: FIRSTRAND LIMITED | C11: no | D11: Half Yearly | E11: 2026-01-01 to 2026-06-30 | F11: 2026 H1 | G11: 852 | H11: 86 | I11: 0.44186047
A12: ALPHABET (GB) LIMITED | B12: ALPHABET INTERNATIONAL GMBH | C12: no | D12: Half Yearly | E12: 2026-01-01 to 2026-06-30 | F12: 2026 H1 | G12: 1265 | H12: 2419 | I12: 0.15130219
A13: Arthur J. Gallagher Insurance Brokers Limited | B13: GALLAGHER GROUP | C13: yes | D13: Half Yearly | E13: 2026-01-01 to 2026-06-30 | F13: 2026 H1 | G13: 4 | H13: 4 | I13: 0.25
... A91: MARKS AND SPENCER FINANCIAL SERVICES PLC | B91: HSBC GROUP | C91: no | D91: Half Yearly | E91: 2026-01-01 to 2026-06-30 | F91: 2026 H1 | G91: 669 | H91: 650 | I91: 0.61230769
A92: MARSHMALLOW FINANCIAL SERVICES LIMITED | B92: MARSHMALLOW GROUP | C92: no | D92: Half Yearly | E92: 2026-01-01 to 2026-06-30 | F92: 2026 H1 | G92: 2 | I92: 0
A93: Mercedes-Benz Financial Services UK Limited | B93: MERCEDES-BENZ GROUP AG | C93: no | D93: Half Yearly | E93: 2026-01-01 to 2026-06-30 | F93: 2026 H1 | G93: 96671 | H93: 10244 | I93: 0.1616556
A94: Metro Bank PLC | B94: METRO BANK GROUP | C94: no | D94: Half Yearly | E94: 2026-01-01 to 2026-06-30 | F94: 2026 H1 | G94: 3225 | H94: 3131 | I94: 0.071223251
A95: MI Vehicle Finance Limited | B95: INVESTEC BANK PLC | C95: no | D95: Half Yearly | E95: 2025-10-01 to 2026-03-31 | F95: 2026 H1 | G95: 15710 | H95: 1779 | I95: 0.32715008
A96: Mitsubishi HC Capital UK PLC | B96: MITSUIBISHI HC CAPITAL INC | C96: no | D96: Half Yearly | E96: 2025-10-01 to 2026-03-31 | F96: 2026 H1 | G96: 7343 | H96: 7528 | I96: 0.19327843
A97: MONEYBARN NO.1 LIMITED | B97: VANQUIS BANKING GROUP | C97: no | D97: Half Yearly | E97: 2026-01-01 to 2026-06-30 | F97: 2026 H1 | G97: 70159 | H97: 6747 | I97: 0.31050837
A98: MONZO BANK LIMITED | B98: MONZO GROUP | C98: no | D98: Half Yearly | E98: 2025-10-01 to 2026-03-31 | F98: 2026 H1 | G98: 951 | H98: 1052 | I98: 0.1986692
A99: Moorcroft Debt Recovery Limited | B99: NO GROUP | C99: no | D99: Half Yearly | E99: 2025-08-01 to 2026-01-31 | F99: 2026 H1 | G99: 552 | H99: 473 | I99: 0.37420719
A100: Mortimer Clarke Solicitors Limited | B100: ENCORE CAPITAL GROUP | C100: no | D100: Half Yearly | E100: 2026-01-01 to 2026-06-30 | F100: 2026 H1 | G100: 750 | H100: 617 | I100: 0.15721232
A101: MotoNovo Finance Limited | B101: FIRSTRAND LIMITED | C101: no | D101: Half Yearly | E101: 2026-01-01 to 2026-06-30 | F101: 2026 H1 | G101: 80636 | H101: 6950 | I101: 0.56431655
A102: My Finance Club Limited | B102: NO GROUP | C102: no | D102: Half Yearly | E102: 2026-01-01 to 2026-06-30 | F102: 2026 H1 | G102: 1238 | H102: 897 | I102: 0.38573021
A103: N.I.I.B. Group Limited | B103: BANK OF IRELAND GROUP | C103: no | D103: Half Yearly | E103: 2026-01-01 to 2026-06-30 | F103: 2026 H1 | G103: 135461 | H103: 4996 | I103: 0.14891914
A104: NATIONAL WESTMINSTER BANK PUBLIC LIMITED COMPANY | B104: NATWEST GROUP | C104: no | D104: Half Yearly | E104: 2026-01-01 to 2026-06-30 | F104: 2026 H1 | G104: 7428 | H104: 7979 | I104: 0.51873668
... A159: Zopa Bank Limited | B159: ZOPA GROUP LIMITED | C159: no | D159: Half Yearly | E159: 2026-01-01 to 2026-06-30 | F159: 2026 H1 | G159: 14186 | H159: 4417 | I159: 0.41815712

Sheet Percentage within 3 days
A1: Firm Name | B1: Group | C1: Joint Reporting | D1: Reporting period | E1: Banking and credit cards | F1: Decumulation & pensions | G1: Home finance | H1: Insurance & pure protection | I1: Investments | J1: Grand Total
A2: 2GETHER INSURANCE LTD | B2: NO GROUP | C2: no | D2: 2025-10-01 to 2026-03-31 | H2: 0.9493 | J2: 0.9493
A3: Accord Mortgages Limited | B3: YORKSHIRE BUILDING SOCIETY | C3: no | D3: 2026-01-01 to 2026-06-30 | G3: 0.1036 | J3: 0.1036
A4: Accredited Insurance (Europe) Ltd | B4: ACCREDITED GROUP | C4: no | D4: 2026-01-01 to 2026-06-30 | H4: 0.2303 | J4: 0.2303
A5: ACORN INSURANCE AND FINANCIAL SERVICES LIMITED | B5: ACORN GROUP | C5: no | D5: 2026-01-01 to 2026-06-30 | H5: 0.3435 | J5: 0.3435
A6: Admiral Financial Services Limited | B6: ADMIRAL GROUP PLC | C6: no | D6: 2026-01-01 to 2026-06-30 | G6: 0.1111 | J6: 0.1111
A7: Adrian Flux Insurance Services Group | B7: NO GROUP | C7: no | D7: 2025-10-01 to 2026-03-31 | H7: 0.9422 | J7: 0.9422
A8: Advisory Insurance Brokers Limited | B8: ARDONAGH GROUP LIMITED | C8: no | D8: 2026-01-01 to 2026-06-30 | H8: 0.2353 | J8: 0.2353
A9: Ageas Insurance Limited | B9: AGEAS SA-NV | C9: no | D9: 2026-01-01 to 2026-06-30 | H9: 0.31 | J9: 0.31
A10: Ageas Retail Limited | B10: AGEAS SA-NV | C10: no | D10: 2026-01-01 to 2026-06-30 | H10: 0.6184 | J10: 0.6184
A11: Aioi Nissay Dowa Insurance UK Limited | B11: AIOI NISSAY DOWA EUROPE LIMITED | C11: yes | D11: 2026-01-01 to 2026-06-30 | H11: 0.1797 | J11: 0.1797
A12: AJ Bell Management Limited | B12: AJ BELL GROUP | C12: no | D12: 2025-10-01 to 2026-03-31 | F12: 0.3008 | J12: 0.3008
A13: AJ Bell Securities Limited | B13: AJ BELL GROUP | C13: no | D13: 2025-10-01 to 2026-03-31 | E13: 0.6111 | F13: 0.2733 | I13: 0.3319 | J13: 0.3235
A14: Aldermore Bank Plc | B14: FIRSTRAND LIMITED | C14: no | D14: 2026-01-01 to 2026-06-30 | E14: 0.7068 | G14: 0.3 | J14: 0.4993
A15: Allianz Insurance Plc | B15: ALLIANZ GROUP | C15: no | D15: 2026-01-01 to 2026-06-30 | H15: 0.22 | J15: 0.22
A16: ALLICA BANK LIMITED | B16: NO GROUP | C16: no | D16: 2026-01-01 to 2026-06-30 | E16: 0.0472 | J16: 0.0472
A17: AMERICAN EXPRESS SERVICES EUROPE LIMITED | B17: AMERICAN EXPRESS | C17: no | D17: 2026-01-01 to 2026-06-30 | E17: 0.1258 | H17: 0.1531 | J17: 0.1261
A18: AMERICAN INTERNATIONAL GROUP UK LIMITED | B18: AMERICAN INTERNATIONAL GROUP, INC. (AIG) | C18: no | D18: 2026-01-01 to 2026-06-30 | H18: 0.1228 | J18: 0.1228
A19: AmTrust Specialty Limited | B19: AMTRUST INTERNATIONAL | C19: no | D19: 2026-01-01 to 2026-06-30 | H19: 0.1002 | J19: 0.1002
A20: ANIMAL FRIENDS INSURANCE SERVICES LIMITED | B20: PINNACLE PET GROUP | C20: no | D20: 2026-01-01 to 2026-06-30 | H20: 0.293 | J20: 0.293
A21: Antares Insurance Company Limited | B21: QIC CAPITAL LLC | C21: no | D21: 2026-01-01 to 2026-06-30 | H21: 0.0577 | J21: 0.0577
A22: ARAG Legal Expenses Insurance Company Limited | B22: ARAG PLC | C22: no | D22: 2026-01-01 to 2026-06-30 | H22: 0.2571 | J22: 0.2571
A23: Arch Insurance (UK) Limited | B23: ARCH CAPITAL GROUP | C23: no | D23: 2026-01-01 to 2026-06-30 | H23: 0.0913 | J23: 0.0913
A24: Arthur J. Gallagher Insurance Brokers Limited | B24: GALLAGHER GROUP | C24: yes | D24: 2026-01-01 to 2026-06-30 | H24: 0.2407 | J24: 0.2407
A25: Assurant General Insurance Limited | B25: ASSURANT INC | C25: no | D25: 2026-01-01 to 2026-06-30 | H25: 0.7561 | J25: 0.7561
A26: Astrenska Insurance Limited | B26: COLLINSON GROUP | C26: no | D26: 2025-11-01 to 2026-04-30 | H26: 0.1442 | J26: 0.1442
A27: Asurion Europe Limited | B27: ASURION | C27: no | D27: 2026-01-01 to 2026-06-30 | H27: 0.3215 | J27: 0.3215
A28: Atlanta Insurance Intermediaries Limited | B28: MARKERSTUDY GROUP | C28: no | D28: 2026-01-01 to 2026-06-30 | H28: 0.6687 | J28: 0.6687
A29: Automobile Association Insurance Services Limited | B29: AUTOMOBILE ASSOCIATION (AA) | C29: no | D29: 2025-08-01 to 2026-01-31 | H29: 0.5359 | J29: 0.5359
A30: Avantia Insurance Limited | B30: AVANTIA GROUP | C30: no | D30: 2026-01-01 to 2026-06-30 | H30: 0.7739 | J30: 0.7739
A31: Aviva Administration Limited | B31: AVIVA PLC | C31: no | D31: 2026-01-01 to 2026-06-30 | F31: 0.2523 | G31: 0.2683 | H31: 0.2316 | I31: 0.1925 | J31: 0.2406
A32: Aviva Health UK Limited | B32: AVIVA PLC | C32: no | D32: 2026-01-01 to 2026-06-30 | H32: 0.4409 | J32: 0.4409
A33: Aviva Insurance Limited | B33: AVIVA PLC | C33: no | D33: 2026-01-01 to 2026-06-30 | H33: 0.3744 | J33: 0.3744
A34: AWP Assistance UK Ltd | B34: ALLIANZ GROUP | C34: yes | D34: 2026-01-01 to 2026-06-30 | H34: 0.1515 | J34: 0.1515
A35: AWP P&C S.A. | B35: ALLIANZ GROUP | C35: yes | D35: 2026-01-01 to 2026-06-30 | H35: 0.0955 | J35: 0.0955
A36: AXA Insurance Designated Activity Company | B36: AXA GROUP | C36: no | D36: 2026-01-01 to 2026-06-30 | H36: 0.7718 | J36: 0.7718
A37: AXA Insurance UK Plc | B37: AXA GROUP | C37: no | D37: 2026-01-01 to 2026-06-30 | H37: 0.3069 | J37: 0.3069
A38: AXA PPP Healthcare Limited | B38: AXA GROUP | C38: no | D38: 2026-01-01 to 2026-06-30 | H38: 0.5194 | J38: 0.5194
A39: Bank of Ireland (UK) Plc | B39: BANK OF IRELAND GROUP | C39: yes | D39: 2026-01-01 to 2026-06-30 | E39: 0.4688 | G39: 0.3475 | H39: 0.6047 | J39: 0.4351
A40: Bank of Scotland plc | B40: LLOYDS BANKING GROUP PLC | C40: no | D40: 2026-01-01 to 2026-06-30 | E40: 0.5622 | F40: 0 | G40: 0.3314 | H40: 0.2778 | I40: 0.0714 | J40: 0.5277
...

Sheet Percentage after 3 days, within
A1: Firm Name | B1: Group | C1: Joint Reporting | D1: Reporting period | E1: Banking and credit cards | F1: Decumulation & pensions | G1: Home finance | H1: Insurance & pure protection | I1: Investments | J1: Grand Total
A2: 2GETHER INSURANCE LTD | B2: NO GROUP | C2: no | D2: 2025-10-01 to 2026-03-31 | H2: 0.0507 | J2: 0.0507
A3: Accord Mortgages Limited | B3: YORKSHIRE BUILDING SOCIETY | C3: no | D3: 2026-01-01 to 2026-06-30 | G3: 0.877 | J3: 0.877
A4: Accredited Insurance (Europe) Ltd | B4: ACCREDITED GROUP | C4: no | D4: 2026-01-01 to 2026-06-30 | H4: 0.7165 | J4: 0.7165
A5: ACORN INSURANCE AND FINANCIAL SERVICES LIMITED | B5: ACORN GROUP | C5: no | D5: 2026-01-01 to 2026-06-30 | H5: 0.6565 | J5: 0.6565
A6: Admiral Financial Services Limited | B6: ADMIRAL GROUP PLC | C6: no | D6: 2026-01-01 to 2026-06-30 | G6: 0.8889 | J6: 0.8889
A7: Adrian Flux Insurance Services Group | B7: NO GROUP | C7: no | D7: 2025-10-01 to 2026-03-31 | H7: 0.0558 | J7: 0.0558
A8: Advisory Insurance Brokers Limited | B8: ARDONAGH GROUP LIMITED | C8: no | D8: 2026-01-01 to 2026-06-30 | H8: 0.6686 | J8: 0.6686
A9: Ageas Insurance Limited | B9: AGEAS SA-NV | C9: no | D9: 2026-01-01 to 2026-06-30 | H9: 0.6354 | J9: 0.6354
A10: Ageas Retail Limited | B10: AGEAS SA-NV | C10: no | D10: 2026-01-01 to 2026-06-30 | H10: 0.3692 | J10: 0.3692
A11: Aioi Nissay Dowa Insurance UK Limited | B11: AIOI NISSAY DOWA EUROPE LIMITED | C11: yes | D11: 2026-01-01 to 2026-06-30 | H11: 0.8028 | J11: 0.8028
A12: AJ Bell Management Limited | B12: AJ BELL GROUP | C12: no | D12: 2025-10-01 to 2026-03-31 | F12: 0.6992 | J12: 0.6992
A13: AJ Bell Securities Limited | B13: AJ BELL GROUP | C13: no | D13: 2025-10-01 to 2026-03-31 | E13: 0.3889 | F13: 0.7267 | I13: 0.6672 | J13: 0.6758
A14: Aldermore Bank Plc | B14: FIRSTRAND LIMITED | C14: no | D14: 2026-01-01 to 2026-06-30 | E14: 0.1767 | G14: 0.4329 | J14: 0.3074
A15: Allianz Insurance Plc | B15: ALLIANZ GROUP | C15: no | D15: 2026-01-01 to 2026-06-30 | H15: 0.7664 | J15: 0.7664
A16: ALLICA BANK LIMITED | B16: NO GROUP | C16: no | D16: 2026-01-01 to 2026-06-30 | E16: 0.9089 | J16: 0.9089
A17: AMERICAN EXPRESS SERVICES EUROPE LIMITED | B17: AMERICAN EXPRESS | C17: no | D17: 2026-01-01 to 2026-06-30 | E17: 0.8737 | H17: 0.8373 | J17: 0.8733
A18: AMERICAN INTERNATIONAL GROUP UK LIMITED | B18: AMERICAN INTERNATIONAL GROUP, INC. (AIG) | C18: no | D18: 2026-01-01 to 2026-06-30 | H18: 0.8707 | J18: 0.8707
A19: AmTrust Specialty Limited | B19: AMTRUST INTERNATIONAL | C19: no | D19: 2026-01-01 to 2026-06-30 | H19: 0.8541 | J19: 0.8541
A20: ANIMAL FRIENDS INSURANCE SERVICES LIMITED | B20: PINNACLE PET GROUP | C20: no | D20: 2026-01-01 to 2026-06-30 | H20: 0.7047 | J20: 0.7047
A21: Antares Insurance Company Limited | B21: QIC CAPITAL LLC | C21: no | D21: 2026-01-01 to 2026-06-30 | H21: 0.9413 | J21: 0.9413
A22: ARAG Legal Expenses Insurance Company Limited | B22: ARAG PLC | C22: no | D22: 2026-01-01 to 2026-06-30 | H22: 0.6835 | J22: 0.6835
A23: Arch Insurance (UK) Limited | B23: ARCH CAPITAL GROUP | C23: no | D23: 2026-01-01 to 2026-06-30 | H23: 0.8242 | J23: 0.8242
A24: Arthur J. Gallagher Insurance Brokers Limited | B24: GALLAGHER GROUP | C24: yes | D24: 2026-01-01 to 2026-06-30 | H24: 0.7396 | J24: 0.7396
A25: Assurant General Insurance Limited | B25: ASSURANT INC | C25: no | D25: 2026-01-01 to 2026-06-30 | H25: 0.234 | J25: 0.234
A26: Astrenska Insurance Limited | B26: COLLINSON GROUP | C26: no | D26: 2025-11-01 to 2026-04-30 | H26: 0.7958 | J26: 0.7958
A27: Asurion Europe Limited | B27: ASURION | C27: no | D27: 2026-01-01 to 2026-06-30 | H27: 0.6785 | J27: 0.6785
A28: Atlanta Insurance Intermediaries Limited | B28: MARKERSTUDY GROUP | C28: no | D28: 2026-01-01 to 2026-06-30 | H28: 0.3303 | J28: 0.3303
A29: Automobile Association Insurance Services Limited | B29: AUTOMOBILE ASSOCIATION (AA) | C29: no | D29: 2025-08-01 to 2026-01-31 | H29: 0.3861 | J29: 0.3861
A30: Avantia Insurance Limited | B30: AVANTIA GROUP | C30: no | D30: 2026-01-01 to 2026-06-30 | H30: 0.2242 | J30: 0.2242
A31: Aviva Administration Limited | B31: AVIVA PLC | C31: no | D31: 2026-01-01 to 2026-06-30 | F31: 0.6319 | G31: 0.691 | H31: 0.6088 | I31: 0.6502 | J31: 0.6306
A32: Aviva Health UK Limited | B32: AVIVA PLC | C32: no | D32: 2026-01-01 to 2026-06-30 | H32: 0.5462 | J32: 0.5462
A33: Aviva Insurance Limited | B33: AVIVA PLC | C33: no | D33: 2026-01-01 to 2026-06-30 | H33: 0.6021 | J33: 0.6021
A34: AWP Assistance UK Ltd | B34: ALLIANZ GROUP | C34: yes | D34: 2026-01-01 to 2026-06-30 | H34: 0.8379 | J34: 0.8379
A35: AWP P&C S.A. | B35: ALLIANZ GROUP | C35: yes | D35: 2026-01-01 to 2026-06-30 | H35: 0.8877 | J35: 0.8877
A36: AXA Insurance Designated Activity Company | B36: AXA GROUP | C36: no | D36: 2026-01-01 to 2026-06-30 | H36: 0.1951 | J36: 0.1951
A37: AXA Insurance UK Plc | B37: AXA GROUP | C37: no | D37: 2026-01-01 to 2026-06-30 | H37: 0.6165 | J37: 0.6165
A38: AXA PPP Healthcare Limited | B38: AXA GROUP | C38: no | D38: 2026-01-01 to 2026-06-30 | H38: 0.4678 | J38: 0.4678
A39: Bank of Ireland (UK) Plc | B39: BANK OF IRELAND GROUP | C39: yes | D39: 2026-01-01 to 2026-06-30 | E39: 0.5072 | G39: 0.5981 | H39: 0.3721 | J39: 0.5319
A40: Bank of Scotland plc | B40: LLOYDS BANKING GROUP PLC | C40: no | D40: 2026-01-01 to 2026-06-30 | E40: 0.2979 | F40: 0.75 | G40: 0.6318 | H40: 0.6713 | I40: 0.7143 | J40: 0.3476
...

Sheet Percentage upheld
A1: Firm Name | B1: Group | C1: Joint Reporting | D1: Reporting period | E1: Banking and credit cards | F1: Decumulation & pensions | G1: Home finance | H1: Insurance & pure protection | I1: Investments | J1: Grand Total
A2: 2GETHER INSURANCE LTD | B2: NO GROUP | C2: no | D2: 2025-10-01 to 2026-03-31 | H2: 0.3605 | J2: 0.3605
A3: Accord Mortgages Limited | B3: YORKSHIRE BUILDING SOCIETY | C3: no | D3: 2026-01-01 to 2026-06-30 | G3: 0.7058 | J3: 0.7058
A4: Accredited Insurance (Europe) Ltd | B4: ACCREDITED GROUP | C4: no | D4: 2026-01-01 to 2026-06-30 | H4: 0.4354 | J4: 0.4354
A5: ACORN INSURANCE AND FINANCIAL SERVICES LIMITED | B5: ACORN GROUP | C5: no | D5: 2026-01-01 to 2026-06-30 | H5: 0.4135 | J5: 0.4135
A6: Admiral Financial Services Limited | B6: ADMIRAL GROUP PLC | C6: no | D6: 2026-01-01 to 2026-06-30 | G6: 0.3889 | J6: 0.3889
A7: Adrian Flux Insurance Services Group | B7: NO GROUP | C7: no | D7: 2025-10-01 to 2026-03-31 | H7: 0.2069 | J7: 0.2069
A8: Advisory Insurance Brokers Limited | B8: ARDONAGH GROUP LIMITED | C8: no | D8: 2026-01-01 to 2026-06-30 | H8: 0.6098 | J8: 0.6098
A9: Ageas Insurance Limited | B9: AGEAS SA-NV | C9: no | D9: 2026-01-01 to 2026-06-30 | H9: 0.5413 | J9: 0.5413
A10: Ageas Retail Limited | B10: AGEAS SA-NV | C10: no | D10: 2026-01-01 to 2026-06-30 | H10: 0.4914 | J10: 0.4914
A11: Aioi Nissay Dowa Insurance UK Limited | B11: AIOI NISSAY DOWA EUROPE LIMITED | C11: yes | D11: 2026-01-01 to 2026-06-30 | H11: 0.3567 | J11: 0.3567
A12: AJ Bell Management Limited | B12: AJ BELL GROUP | C12: no | D12: 2025-10-01 to 2026-03-31 | F12: 0.5695 | J12: 0.5695
A13: AJ Bell Securities Limited | B13: AJ BELL GROUP | C13: no | D13: 2025-10-01 to 2026-03-31 | E13: 0.6111 | F13: 0.4233 | I13: 0.4372 | J13: 0.4365
A14: Aldermore Bank Plc | B14: FIRSTRAND LIMITED | C14: no | D14: 2026-01-01 to 2026-06-30 | E14: 0.6644 | G14: 0.7526 | J14: 0.7094
A15: Allianz Insurance Plc | B15: ALLIANZ GROUP | C15: no | D15: 2026-01-01 to 2026-06-30 | H15: 0.6189 | J15: 0.6189
A16: ALLICA BANK LIMITED | B16: NO GROUP | C16: no | D16: 2026-01-01 to 2026-06-30 | E16: 0.4435 | J16: 0.4435
A17: AMERICAN EXPRESS SERVICES EUROPE LIMITED | B17: AMERICAN EXPRESS | C17: no | D17: 2026-01-01 to 2026-06-30 | E17: 0.3177 | H17: 0.1148 | J17: 0.3156
A18: AMERICAN INTERNATIONAL GROUP UK LIMITED | B18: AMERICAN INTERNATIONAL GROUP, INC. (AIG) | C18: no | D18: 2026-01-01 to 2026-06-30 | H18: 0.4728 | J18: 0.4728
A19: AmTrust Specialty Limited | B19: AMTRUST INTERNATIONAL | C19: no | D19: 2026-01-01 to 2026-06-30 | H19: 0.4449 | J19: 0.4449
A20: ANIMAL FRIENDS INSURANCE SERVICES LIMITED | B20: PINNACLE PET GROUP | C20: no | D20: 2026-01-01 to 2026-06-30 | H20: 0.5705 | J20: 0.5705
A21: Antares Insurance Company Limited | B21: QIC CAPITAL LLC | C21: no | D21: 2026-01-01 to 2026-06-30 | H21: 0.4961 | J21: 0.4961
A22: ARAG Legal Expenses Insurance Company Limited | B22: ARAG PLC | C22: no | D22: 2026-01-01 to 2026-06-30 | H22: 0.5575 | J22: 0.5575
A23: Arch Insurance (UK) Limited | B23: ARCH CAPITAL GROUP | C23: no | D23: 2026-01-01 to 2026-06-30 | H23: 0.5708 | J23: 0.5708
A24: Arthur J. Gallagher Insurance Brokers Limited | B24: GALLAGHER GROUP | C24: yes | D24: 2026-01-01 to 2026-06-30 | H24: 0.6411 | J24: 0.6411
A25: Assurant General Insurance Limited | B25: ASSURANT INC | C25: no | D25: 2026-01-01 to 2026-06-30 | H25: 0.3923 | J25: 0.3923
A26: Astrenska Insurance Limited | B26: COLLINSON GROUP | C26: no | D26: 2025-11-01 to 2026-04-30 | H26: 0.6283 | J26: 0.6283
A27: Asurion Europe Limited | B27: ASURION | C27: no | D27: 2026-01-01 to 2026-06-30 | H27: 0.2008 | J27: 0.2008
A28: Atlanta Insurance Intermediaries Limited | B28: MARKERSTUDY GROUP | C28: no | D28: 2026-01-01 to 2026-06-30 | H28: 0.4041 | J28: 0.4041
A29: Automobile Association Insurance Services Limited | B29: AUTOMOBILE ASSOCIATION (AA) | C29: no | D29: 2025-08-01 to 2026-01-31 | H29: 0.5311 | J29: 0.5311
A30: Avantia Insurance Limited | B30: AVANTIA GROUP | C30: no | D30: 2026-01-01 to 2026-06-30 | H30: 0.4029 | J30: 0.4029
A31: Aviva Administration Limited | B31: AVIVA PLC | C31: no | D31: 2026-01-01 to 2026-06-30 | F31: 0.724 | G31: 0.4465 | H31: 0.6531 | I31: 0.8377 | J31: 0.7188
A32: Aviva Health UK Limited | B32: AVIVA PLC | C32: no | D32: 2026-01-01 to 2026-06-30 | H32: 0.2976 | J32: 0.2976
A33: Aviva Insurance Limited | B33: AVIVA PLC | C33: no | D33: 2026-01-01 to 2026-06-30 | H33: 0.5616 | J33: 0.5616
A34: AWP Assistance UK Ltd | B34: ALLIANZ GROUP | C34: yes | D34: 2026-01-01 to 2026-06-30 | H34: 0.8011 | J34: 0.8011
A35: AWP P&C S.A. | B35: ALLIANZ GROUP | C35: yes | D35: 2026-01-01 to 2026-06-30 | H35: 0.3303 | J35: 0.3303
A36: AXA Insurance Designated Activity Company | B36: AXA GROUP | C36: no | D36: 2026-01-01 to 2026-06-30 | H36: 0.5602 | J36: 0.5602
A37: AXA Insurance UK Plc | B37: AXA GROUP | C37: no | D37: 2026-01-01 to 2026-06-30 | H37: 0.5925 | J37: 0.5925
A38: AXA PPP Healthcare Limited | B38: AXA GROUP | C38: no | D38: 2026-01-01 to 2026-06-30 | H38: 0.5218 | J38: 0.5218
A39: Bank of Ireland (UK) Plc | B39: BANK OF IRELAND GROUP | C39: yes | D39: 2026-01-01 to 2026-06-30 | E39: 0.3926 | G39: 0.2692 | H39: 0 | J39: 0.3493
A40: Bank of Scotland plc | B40: LLOYDS BANKING GROUP PLC | C40: no | D40: 2026-01-01 to 2026-06-30 | E40: 0.6463 | F40: 0.75 | G40: 0.5818 | H40: 0.1574 | I40: 0.25 | J40: 0.6356
...

Sheet Context - Intermediation
A1: Firm Name | B1: Group | C1: Joint Reporting | D1: Reporting period | E1: Decumulation & pensions | F1: Home finance | G1: Insurance & pure protection | H1: Investments
A2: 2GETHER INSURANCE LTD | B2: NO GROUP | C2: no | D2: 2025-10-01 to 2026-03-31 | G2: 0.89
A3: Accord Mortgages Limited | B3: YORKSHIRE BUILDING SOCIETY | C3: no | D3: 2026-01-01 to 2026-06-30 | F3: 67.86
A4: Accredited Insurance (Europe) Ltd | B4: ACCREDITED GROUP | C4: no | D4: 2026-01-01 to 2026-06-30 | G4: 3.15
A5: ACORN INSURANCE AND FINANCIAL SERVICES LIMITED | B5: ACORN GROUP | C5: no | D5: 2026-01-01 to 2026-06-30 | G5: 1.51
A6: Advisory Insurance Brokers Limited | B6: ARDONAGH GROUP LIMITED | C6: no | D6: 2026-01-01 to 2026-06-30 | G6: 1.72
A7: Aldermore Bank Plc | B7: FIRSTRAND LIMITED | C7: no | D7: 2026-01-01 to 2026-06-30 | F7: 131.65
A8: AmTrust Specialty Limited | B8: AMTRUST INTERNATIONAL | C8: no | D8: 2026-01-01 to 2026-06-30 | G8: 0.66
A9: Antares Insurance Company Limited | B9: QIC CAPITAL LLC | C9: no | D9: 2026-01-01 to 2026-06-30 | G9: 15.96
A10: ARAG Legal Expenses Insurance Company Limited | B10: ARAG PLC | C10: no | D10: 2026-01-01 to 2026-06-30 | G10: 0.83
A11: Arthur J. Gallagher Insurance Brokers Limited | B11: GALLAGHER GROUP | C11: yes | D11: 2026-01-01 to 2026-06-30 | G11: 2.16
A12: Atlanta Insurance Intermediaries Limited | B12: MARKERSTUDY GROUP | C12: no | D12: 2026-01-01 to 2026-06-30 | G12: 7.05
A13: Automobile Association Insurance Services Limited | B13: AUTOMOBILE ASSOCIATION (AA) | C13: no | D13: 2025-08-01 to 2026-01-31 | G13: 2.06
A14: Avantia Insurance Limited | B14: AVANTIA GROUP | C14: no | D14: 2026-01-01 to 2026-06-30 | G14: 5.61
A15: Aviva Health UK Limited | B15: AVIVA PLC | C15: no | D15: 2026-01-01 to 2026-06-30 | G15: 6.85
A16: AWP Assistance UK Ltd | B16: ALLIANZ GROUP | C16: yes | D16: 2026-01-01 to 2026-06-30 | G16: 0.91
A17: AWP P&C S.A. | B17: ALLIANZ GROUP | C17: yes | D17: 2026-01-01 to 2026-06-30 | G17: 0.71
A18: AXA Insurance Designated Activity Company | B18: AXA GROUP | C18: no | D18: 2026-01-01 to 2026-06-30 | G18: 12
A19: Barclays Bank UK PLC | B19: BARCLAYS GROUP | C19: no | D19: 2026-01-01 to 2026-06-30 | E19: 0.09
A20: Bennetts Motorcycling Services Limited | B20: NO GROUP | C20: no | D20: 2026-01-01 to 2026-06-30 | G20: 6.24
A21: BISL Limited | B21: MARKERSTUDY GROUP | C21: no | D21: 2026-01-01 to 2026-06-30 | G21: 7.92
A22: CAROLE NASH INSURANCE CONSULTANTS LIMITED | B22: MARKERSTUDY GROUP | C22: no | D22: 2026-01-01 to 2026-06-30 | G22: 6.23
A23: Castelan Limited | B23: CASTELAN GROUP | C23: no | D23: 2025-10-01 to 2026-03-31 | G23: 1.92
A24: COMPLETE COVER GROUP LIMITED | B24: COMPLETE COVER GROUP | C24: no | D24: 2026-01-01 to 2026-06-30 | G24: 42.46
A25: Connells Limited | B25: SKIPTON BUILDING SOCIETY | C25: no | D25: 2026-01-01 to 2026-06-30 | F25: 14.93 | G25: 3.61
A26: Countrywide Assured Plc | B26: CHESNARA PLC | C26: no | D26: 2026-01-01 to 2026-06-30 | H26: 960.4
A27: Covea Insurance plc | B27: COVEA GROUP | C27: yes | D27: 2026-01-01 to 2026-06-30 | G27: 4.64
A28: ERGO TRAVEL INSURANCE SERVICES LTD | B28: MUNICH RE | C28: no | D28: 2026-01-01 to 2026-06-30 | G28: 7.62
A29: ETORO (UK) LIMITED | B29: ETORO GROUP LTD | C29: no | D29: 2026-01-01 to 2026-06-30 | H29: 0.01
A30: Exeter Friendly Society Limited | B30: NO GROUP | C30: no | D30: 2026-01-01 to 2026-06-30 | G30: 79.52
A31: Extracover Limited | B31: NO GROUP | C31: no | D31: 2026-01-01 to 2026-06-30 | G31: 0.31
A32: Fortegra Europe Insurance Company Ltd | B32: TIPTREE INC | C32: no | D32: 2026-01-01 to 2026-06-30 | G32: 42.44
A33: Freetrade Limited | B33: IG GROUP | C33: no | D33: 2026-01-01 to 2026-06-30 | E33: 8.98
A34: Hastings Insurance Services Limited | B34: HASTINGS GROUP | C34: yes | D34: 2026-01-01 to 2026-06-30 | G34: 8.18
A35: Homeserve Membership Limited | B35: HOMESERVE GROUP | C35: no | D35: 2026-01-01 to 2026-06-30 | G35: 3.05
A36: Hood Travel Limited | B36: HOOD GROUP | C36: no | D36: 2026-01-01 to 2026-06-30 | G36: 6.27
A37: Howserv Limited | B37: STAYSURE HOLDINGS LTD | C37: no | D37: 2026-01-01 to 2026-06-30 | G37: 6.55
A38: HTG HOME SERVICES LIMITED | B38: NO GROUP | C38: no | D38: 2026-01-01 to 2026-06-30 | G38: 16.08
A39: I Go 4 Ltd. | B39: MARKERSTUDY GROUP | C39: no | D39: 2026-01-01 to 2026-06-30 | G39: 4.22
A40: IG INDEX LIMITED | B40: IG GROUP | C40: no | D40: 2026-01-01 to 2026-06-30 | E40: 240.96 | H40: 0.02
...

Sheet Context - Provision
A1: Firm Name | B1: Group | C1: Joint Reporting | D1: Reporting period | E1: Banking and credit cards | F1: Decumulation & pensions | G1: Home finance | H1: Insurance & pure protection | I1: Investments
A2: 2GETHER INSURANCE LTD | B2: NO GROUP | C2: no | D2: 2025-10-01 to 2026-03-31 | H2: 0.53
A3: Accord Mortgages Limited | B3: YORKSHIRE BUILDING SOCIETY | C3: no | D3: 2026-01-01 to 2026-06-30 | G3: 5.01
A4: Accredited Insurance (Europe) Ltd | B4: ACCREDITED GROUP | C4: no | D4: 2026-01-01 to 2026-06-30 | H4: 1.72
A5: ACORN INSURANCE AND FINANCIAL SERVICES LIMITED | B5: ACORN GROUP | C5: no | D5: 2026-01-01 to 2026-06-30 | H5: 1.59
A6: Adrian Flux Insurance Services Group | B6: NO GROUP | C6: no | D6: 2025-10-01 to 2026-03-31 | H6: 2.54
A7: Ageas Insurance Limited | B7: AGEAS SA-NV | C7: no | D7: 2026-01-01 to 2026-06-30 | H7: 1.36
A8: Ageas Retail Limited | B8: AGEAS SA-NV | C8: no | D8: 2026-01-01 to 2026-06-30 | H8: 3.91
A9: Aioi Nissay Dowa Insurance UK Limited | B9: AIOI NISSAY DOWA EUROPE LIMITED | C9: yes | D9: 2026-01-01 to 2026-06-30 | H9: 9.7
A10: AJ Bell Management Limited | B10: AJ BELL GROUP | C10: no | D10: 2025-10-01 to 2026-03-31 | F10: 3.98
A11: AJ Bell Securities Limited | B11: AJ BELL GROUP | C11: no | D11: 2025-10-01 to 2026-03-31 | E11: 6.31 | F11: 1.02 | I11: 1.94
A12: Aldermore Bank Plc | B12: FIRSTRAND LIMITED | C12: no | D12: 2026-01-01 to 2026-06-30 | E12: 2.01 | G12: 13.77
A13: Allianz Insurance Plc | B13: ALLIANZ GROUP | C13: no | D13: 2026-01-01 to 2026-06-30 | H13: 0.57
A14: ALLICA BANK LIMITED | B14: NO GROUP | C14: no | D14: 2026-01-01 to 2026-06-30 | E14: 16.74
A15: AMERICAN EXPRESS SERVICES EUROPE LIMITED | B15: AMERICAN EXPRESS | C15: no | D15: 2026-01-01 to 2026-06-30 | E15: 5.5 | H15: 0.05
A16: AMERICAN INTERNATIONAL GROUP UK LIMITED | B16: AMERICAN INTERNATIONAL GROUP, INC. (AIG) | C16: no | D16: 2026-01-01 to 2026-06-30 | H16: 0.17
A17: AmTrust Specialty Limited | B17: AMTRUST INTERNATIONAL | C17: no | D17: 2026-01-01 to 2026-06-30 | H17: 0.35
A18: ANIMAL FRIENDS INSURANCE SERVICES LIMITED | B18: PINNACLE PET GROUP | C18: no | D18: 2026-01-01 to 2026-06-30 | H18: 2.35
A19: Antares Insurance Company Limited | B19: QIC CAPITAL LLC | C19: no | D19: 2026-01-01 to 2026-06-30 | H19: 5.72
A20: ARAG Legal Expenses Insurance Company Limited | B20: ARAG PLC | C20: no | D20: 2026-01-01 to 2026-06-30 | H20: 0.41
A21: Arch Insurance (UK) Limited | B21: ARCH CAPITAL GROUP | C21: no | D21: 2026-01-01 to 2026-06-30 | H21: 4.6
A22: Assurant General Insurance Limited | B22: ASSURANT INC | C22: no | D22: 2026-01-01 to 2026-06-30 | H22: 1.04
A23: Asurion Europe Limited | B23: ASURION | C23: no | D23: 2026-01-01 to 2026-06-30 | H23: 1.69
A24: Atlanta Insurance Intermediaries Limited | B24: MARKERSTUDY GROUP | C24: no | D24: 2026-01-01 to 2026-06-30 | H24: 4.18
A25: Avantia Insurance Limited | B25: AVANTIA GROUP | C25: no | D25: 2026-01-01 to 2026-06-30 | H25: 2.94
A26: Aviva Administration Limited | B26: AVIVA PLC | C26: no | D26: 2026-01-01 to 2026-06-30 | F26: 2.41 | G26: 6.43 | H26: 1.35 | I26: 4.76
A27: Aviva Insurance Limited | B27: AVIVA PLC | C27: no | D27: 2026-01-01 to 2026-06-30 | H27: 2.91
A28: AWP Assistance UK Ltd | B28: ALLIANZ GROUP | C28: yes | D28: 2026-01-01 to 2026-06-30 | H28: 0.59
A29: AWP P&C S.A. | B29: ALLIANZ GROUP | C29: yes | D29: 2026-01-01 to 2026-06-30 | H29: 0.46
A30: AXA Insurance Designated Activity Company | B30: AXA GROUP | C30: no | D30: 2026-01-01 to 2026-06-30 | H30: 6.38
A31: AXA Insurance UK Plc | B31: AXA GROUP | C31: no | D31: 2026-01-01 to 2026-06-30 | H31: 5.17
A32: AXA PPP Healthcare Limited | B32: AXA GROUP | C32: no | D32: 2026-01-01 to 2026-06-30 | H32: 13.45
A33: Bank of Ireland (UK) Plc | B33: BANK OF IRELAND GROUP | C33: yes | D33: 2026-01-01 to 2026-06-30 | E33: 1.89 | G33: 9.17
A34: Bank of Scotland plc | B34: LLOYDS BANKING GROUP PLC | C34: no | D34: 2026-01-01 to 2026-06-30 | E34: 2.31 | F34: 0.02 | G34: 6.48 | H34: 0.37 | I34: 0.24
A35: Barclays Bank Plc | B35: BARCLAYS GROUP | C35: no | D35: 2026-01-01 to 2026-06-30 | E35: 9.26 | G35: 2.22 | I35: 2.4
A36: Barclays Bank UK PLC | B36: BARCLAYS GROUP | C36: no | D36: 2026-01-01 to 2026-06-30 | E36: 2.14 | G36: 5.92 | H36: 1.31
A37: BISL Limited | B37: MARKERSTUDY GROUP | C37: no | D37: 2026-01-01 to 2026-06-30 | H37: 3.2
A38: British Gas Services Limited | B38: BRITISH GAS | C38: yes | D38: 2026-01-01 to 2026-06-30 | H38: 8.95
A39: BUPA Insurance Services Limited | B39: BUPA GROUP | C39: yes | D39: 2026-01-01 to 2026-06-30 | H39: 7.89
A40: CALL ASSIST LIMITED | B40: NO GROUP | C40: no | D40: 2025-11-01 to 2026-04-30 | H40: 3.73
...

Sheet Trading Names
A1: Firm Name | B1: FRN | C1: Other Trading Names | D1: Firm Group
A2: Accord Mortgages Limited | B2: 305936 | C2: Accord Mortgages | D2: =_xlfn.XLOOKUP(A2,Opened!A:A,Opened!B:B) -> YORKSHIRE BUILDING SOCIETY
A3: Ageas Insurance Limited | B3: 202039 | C3: ageas, Back Me Up, Optima, Ageas | D3: =_xlfn.XLOOKUP(A3,Opened!A:A,Opened!B:B) -> AGEAS SA-NV
A4: ALLICA BANK LIMITED | B4: 821851 | C4: Allica | D4: =_xlfn.XLOOKUP(A4,Opened!A:A,Opened!B:B) -> NO GROUP
A5: AMERICAN EXPRESS SERVICES EUROPE LIMITED | B5: 661836 | C5: American Express | D5: =_xlfn.XLOOKUP(A5,Opened!A:A,Opened!B:B) -> AMERICAN EXPRESS
A6: ANIMAL FRIENDS INSURANCE SERVICES LIMITED | B6: 307858 | C6: Animal Friends Insurance, Animal Friends | D6: =_xlfn.XLOOKUP(A6,Opened!A:A,Opened!B:B) -> PINNACLE PET GROUP
A7: Antares Insurance Company Limited | B7: 967451 | C7: Antares Insurance Company Limited | D7: =_xlfn.XLOOKUP(A7,Opened!A:A,Opened!B:B) -> QIC CAPITAL LLC
A8: Astrenska Insurance Limited | B8: 202846 | C8: Astrenska, Collinson Insurance | D8: =_xlfn.XLOOKUP(A8,Opened!A:A,Opened!B:B) -> COLLINSON GROUP
A9: Aviva Health UK Limited | B9: 308139 | C9: Norwich Union, Norwich Union Healthcare | D9: =_xlfn.XLOOKUP(A9,Opened!A:A,Opened!B:B) -> AVIVA PLC
A10: AXA PPP Healthcare Limited | B10: 202947 | C10: AXA PPP International, AXA Health, AXA PPP healthcare | D10: =_xlfn.XLOOKUP(A10,Opened!A:A,Opened!B:B) -> AXA GROUP
A11: Bank of Ireland (UK) Plc | B11: 512956 | C11: AA Mortgages, Bank of Ireland (UK) | D11: =_xlfn.XLOOKUP(A11,Opened!A:A,Opened!B:B) -> BANK OF IRELAND GROUP
A12: Bennetts Motorcycling Services Limited | B12: 913949 | C12: Bennetts | D12: =_xlfn.XLOOKUP(A12,Opened!A:A,Opened!B:B) -> NO GROUP
A13: CALL ASSIST LIMITED | B13: 304838 | C13: starttravel.co.uk, startrescue.co.uk | D13: =_xlfn.XLOOKUP(A13,Opened!A:A,Opened!B:B) -> NO GROUP
... A66: Zempler Bank Limited | B66: 671140 | C66: Cashplus, APS Financial, Capital Recovery Solutions, Cashplus Bank | D66: =_xlfn.XLOOKUP(A66,Opened!A:A,Opened!B:B) -> ACCESS BANK PLC

Sheet Main return Joint reporters
A1: Firm Name | B1: Other firms included in return | C1: Reporting period
A2: AMERICAN INTERNATIONAL GROUP UK LIMITED | B2: AIG Europe S.A. | C2: 2026-01-01 to 2026-06-30
A3: Arthur J. Gallagher Insurance Brokers Limited | B3: Bircroft Insurance Services Limited | C3: 2026-01-01 to 2026-06-30
A4: Arthur J. Gallagher Insurance Brokers Limited | B4: Lifesure Group Limited | C4: 2026-01-01 to 2026-06-30
A5: AWP Assistance UK Ltd | B5: AWP P&C S.A. | C5: 2026-01-01 to 2026-06-30
A6: AWP P&C S.A. | B6: AWP Assistance UK Ltd | C6: 2026-01-01 to 2026-06-30
A7: Bank of Ireland (UK) Plc | B7: The Governor and Company of the Bank of Ireland | C7: 2026-01-01 to 2026-06-30
A8: Barclays Bank UK PLC | B8: Barclays Insurance Services Company Limited | C8: 2026-01-01 to 2026-06-30
A9: British Gas Services Limited | B9: British Gas Insurance Limited | C9: 2026-01-01 to 2026-06-30
A10: BUPA Insurance Services Limited | B10: BUPA Insurance Limited | C10: 2026-01-01 to 2026-06-30
A11: Car Care Plan Limited | B11: Motors Insurance Company Limited | C11: 2026-01-01 to 2026-06-30
A12: CARD PROTECTION PLAN LIMITED | B12: Homecare Insurance Limited | C12: 2026-01-01 to 2026-06-30
... A42: Yorkshire Building Society | B42: Norwich and Peterborough (LBS) Limited | C42: 2026-01-01 to 2026-06-30

Sheet Consumer credit Joint reporters
A1: Firm Name | B1: Other firms included in return | C1: Reporting period
A2: Arthur J. Gallagher Insurance Brokers Limited | B2: Bircroft Insurance Services Limited | C2: 2026-01-01 to 2026-06-30
A3: Arthur J. Gallagher Insurance Brokers Limited | B3: Lifesure Group Limited | C3: 2026-01-01 to 2026-06-30
A4: Bank of Ireland (UK) Plc | B4: The Governor and Company of the Bank of Ireland | C4: 2026-01-01 to 2026-06-30
A5: Barclays Bank UK PLC | B5: Barclays Insurance Services Company Limited | C5: 2026-01-01 to 2026-06-30
A6: Coventry Building Society | B6: Godiva Mortgages Limited | C6: 2026-01-01 to 2026-06-30
A7: Coventry Building Society | B7: ITL Mortgages Limited | C7: 2026-01-01 to 2026-06-30
A8: Paragon Bank Plc | B8: Paragon Finance PLC | C8: 2025-10-01 to 2026-03-31
A9: Salary Finance Limited | B9: Salary Finance Loans Limited | C9: 2026-01-01 to 2026-06-30
